BEGIN:VCALENDAR
VERSION:2.0
PRODID:-//Innergården Linköping - ECPv6.15.20//NONSGML v1.0//EN
CALSCALE:GREGORIAN
METHOD:PUBLISH
X-ORIGINAL-URL:https://innergarden.nu
X-WR-CALDESC:Händelser för Innergården Linköping
REFRESH-INTERVAL;VALUE=DURATION:PT1H
X-Robots-Tag:noindex
X-PUBLISHED-TTL:PT1H
BEGIN:VTIMEZONE
TZID:Europe/Paris
BEGIN:DAYLIGHT
TZOFFSETFROM:+0100
TZOFFSETTO:+0200
TZNAME:CEST
DTSTART:20240331T010000
END:DAYLIGHT
BEGIN:STANDARD
TZOFFSETFROM:+0200
TZOFFSETTO:+0100
TZNAME:CET
DTSTART:20241027T010000
END:STANDARD
BEGIN:DAYLIGHT
TZOFFSETFROM:+0100
TZOFFSETTO:+0200
TZNAME:CEST
DTSTART:20250330T010000
END:DAYLIGHT
BEGIN:STANDARD
TZOFFSETFROM:+0200
TZOFFSETTO:+0100
TZNAME:CET
DTSTART:20251026T010000
END:STANDARD
BEGIN:DAYLIGHT
TZOFFSETFROM:+0100
TZOFFSETTO:+0200
TZNAME:CEST
DTSTART:20260329T010000
END:DAYLIGHT
BEGIN:STANDARD
TZOFFSETFROM:+0200
TZOFFSETTO:+0100
TZNAME:CET
DTSTART:20261025T010000
END:STANDARD
END:VTIMEZONE
BEGIN:VEVENT
DTSTART;TZID=Europe/Paris:20250517T220000
DTEND;TZID=Europe/Paris:20250518T030000
DTSTAMP:20260423T003042
CREATED:20250506T114143Z
LAST-MODIFIED:20250506T114143Z
UID:1795-1747519200-1747537200@innergarden.nu
SUMMARY:Charlie's - SÄSONGSPREMIÄR 2025 - 17 MAJ - REBECCA & FIONA
DESCRIPTION:FÖRKÖP: https://secure.tickster.com/3uylhf6bp6402e2\n► BORDSFÖRFRÅGAN: bord@charlieslkpg.se | DM @charlies_lkpg\nÖstergötlands bästa sommarklubb är ÄNTLIGEN tillbaka för en ny säsong! Vi huserar som vanligt på Innergården varje lördag 22-03 hela sommaren.\nCHARLIE`S PRESENTERAR STOLT:\nFörst ut denna sommar är inga mindre än REBECCA & FIONA. Vi är otroligt stolta över att få ha denna världskända duo hos oss och vi vågar nog säga att det är den största bokningen vi dragit hittills.\nProducent- och DJ-duon Rebecca & Fiona har varit en viktig del av den svenska och internationella musikscenen sedan 2007. Med sitt gränsöverskridande artisteri har de släppt tre album\, vunnit dubbla Grammisar och blandar fritt influenser från pop\, elektronisk musik och klubbvärlden.\n2018 startade de sitt eget skivbolag\, Big Romantic Music\, där de både skapar och stöttar andra artister. Deras passion för dansmusik och klubbliv märks även i deras populära radioprogram på P3.\nDuon har turnerat världen över\, spelat på legendariska festivaler som Tomorrowland och Lollapalooza\, och är kända för sina energiska liveframträdanden.\nDen 27 september släppte de sitt fjärde album\, MEGA DANCE\, som hyllar dansgolvet och klubbscenen från tidigt 2000-tal. Rebecca & Fiona beskriver albumet som en rolig och nostalgisk återgång till sina rötter\, med en mix av eurodance och humor.Med varje nytt släpp och liveframträdande fortsätter Rebecca & Fiona att sätta standarden för modern dansmusik.\n…………………………………………………..► DJ: REBECCA & FIONA► 22.00-03.00► Förköp: 175 SEK► Rek 20+► Bordsförfrågan: bord@charlieslkpg.se\nVälkommen. Welcome. Bienvenue. Yokoso….
URL:https://innergarden.nu/event/charlies-sasongspremiar-2025-17-maj-rebecca-fiona/
CATEGORIES:charlies
ATTACH;FMTTYPE=image/png:https://innergarden.nu/wp-content/uploads/2025/05/Charlies_FB_17_Maj_PREMIAR_2.0.png
END:VEVENT
END:VCALENDAR