BEGIN:VCALENDAR
VERSION:2.0
PRODID:-//Innergården Linköping - ECPv6.15.20//NONSGML v1.0//EN
CALSCALE:GREGORIAN
METHOD:PUBLISH
X-ORIGINAL-URL:https://innergarden.nu
X-WR-CALDESC:Händelser för Innergården Linköping
REFRESH-INTERVAL;VALUE=DURATION:PT1H
X-Robots-Tag:noindex
X-PUBLISHED-TTL:PT1H
BEGIN:VTIMEZONE
TZID:Europe/Paris
BEGIN:DAYLIGHT
TZOFFSETFROM:+0100
TZOFFSETTO:+0200
TZNAME:CEST
DTSTART:20240331T010000
END:DAYLIGHT
BEGIN:STANDARD
TZOFFSETFROM:+0200
TZOFFSETTO:+0100
TZNAME:CET
DTSTART:20241027T010000
END:STANDARD
BEGIN:DAYLIGHT
TZOFFSETFROM:+0100
TZOFFSETTO:+0200
TZNAME:CEST
DTSTART:20250330T010000
END:DAYLIGHT
BEGIN:STANDARD
TZOFFSETFROM:+0200
TZOFFSETTO:+0100
TZNAME:CET
DTSTART:20251026T010000
END:STANDARD
BEGIN:DAYLIGHT
TZOFFSETFROM:+0100
TZOFFSETTO:+0200
TZNAME:CEST
DTSTART:20260329T010000
END:DAYLIGHT
BEGIN:STANDARD
TZOFFSETFROM:+0200
TZOFFSETTO:+0100
TZNAME:CET
DTSTART:20261025T010000
END:STANDARD
END:VTIMEZONE
BEGIN:VEVENT
DTSTART;TZID=Europe/Paris:20250520T190000
DTEND;TZID=Europe/Paris:20250520T210000
DTSTAMP:20260423T003150
CREATED:20250331T122058Z
LAST-MODIFIED:20250520T121709Z
UID:1580-1747767600-1747774800@innergarden.nu
SUMMARY:QUIZ Innergården - 20 maj - Historia
DESCRIPTION:QUIZ på Innergården! \n\nVarje tisdag är det Quiz på Innergården! Kom och testa dina kunskaper i en social och rolig frågesport – perfekt att delta med vänner\, familj eller kollegor! \n\nHur går det till?⮕ Pris: 20 kr per person – pengarna går till vinstpotten\, som delas i form av ett presentkort på Innergården till det vinnande laget!⮕ Anmälan: Skicka DM på Instagram @innergardenlkpg eller maila oss på info@innergarden.nu⮕ Max 6 personer per lag\n\nKom och ha kul – vi ser fram emot att se just ditt lag på quizet! Varmt välkomna! 
URL:https://innergarden.nu/event/quiz-innergarden-historia/
LOCATION:Innergården\, Linköping
CATEGORIES:quiz
ATTACH;FMTTYPE=image/png:https://innergarden.nu/wp-content/uploads/2025/03/Innergarden_2025_QUIZ_20_Maj_Tema_Historia_FB.png
END:VEVENT
END:VCALENDAR