BEGIN:VCALENDAR
VERSION:2.0
PRODID:-//Innergården Linköping - ECPv6.15.20//NONSGML v1.0//EN
CALSCALE:GREGORIAN
METHOD:PUBLISH
X-WR-CALNAME:Innergården Linköping
X-ORIGINAL-URL:https://innergarden.nu
X-WR-CALDESC:Händelser för Innergården Linköping
REFRESH-INTERVAL;VALUE=DURATION:PT1H
X-Robots-Tag:noindex
X-PUBLISHED-TTL:PT1H
BEGIN:VTIMEZONE
TZID:Europe/Paris
BEGIN:DAYLIGHT
TZOFFSETFROM:+0100
TZOFFSETTO:+0200
TZNAME:CEST
DTSTART:20240331T010000
END:DAYLIGHT
BEGIN:STANDARD
TZOFFSETFROM:+0200
TZOFFSETTO:+0100
TZNAME:CET
DTSTART:20241027T010000
END:STANDARD
BEGIN:DAYLIGHT
TZOFFSETFROM:+0100
TZOFFSETTO:+0200
TZNAME:CEST
DTSTART:20250330T010000
END:DAYLIGHT
BEGIN:STANDARD
TZOFFSETFROM:+0200
TZOFFSETTO:+0100
TZNAME:CET
DTSTART:20251026T010000
END:STANDARD
BEGIN:DAYLIGHT
TZOFFSETFROM:+0100
TZOFFSETTO:+0200
TZNAME:CEST
DTSTART:20260329T010000
END:DAYLIGHT
BEGIN:STANDARD
TZOFFSETFROM:+0200
TZOFFSETTO:+0100
TZNAME:CET
DTSTART:20261025T010000
END:STANDARD
END:VTIMEZONE
BEGIN:VEVENT
DTSTART;TZID=Europe/Paris:20250522T200000
DTEND;TZID=Europe/Paris:20250522T210000
DTSTAMP:20260422T201259
CREATED:20250424T124205Z
LAST-MODIFIED:20250424T130241Z
UID:1680-1747944000-1747947600@innergarden.nu
SUMMARY:Innergården LIVE - 22 maj - Mathias Brandin Beltramo
DESCRIPTION:INNERGÅRDEN LIVE \nLivemusik varje torsdag & fredag på Linköpings härligaste Innergård  Det blir en blandning av akustiska covers\, Pop\, Soul och Rock’n’Roll från några av Linköpings bästa artister!\nTorsdagen 22 maj presenterar vi Mathias Brandin Beltramo! Mathias spelar 100% covers med pop\, rock och soul – både nytt och gammalt! Önskemål är även välkomna!\n⮕ Fri entré!Kom och häng med oss och upplev livemusik när den är som bäst!
URL:https://innergarden.nu/event/innergarden-live-22-maj-mathias-brandin-beltramo/
CATEGORIES:live
ATTACH;FMTTYPE=image/png:https://innergarden.nu/wp-content/uploads/2025/04/Innergarden_2025_Linkoping_Event_Livemusik_Musik_22_Maj_Mathias_Brandin_Beltramo_FB.png
END:VEVENT
END:VCALENDAR