BEGIN:VCALENDAR
VERSION:2.0
PRODID:-//Innergården Linköping - ECPv6.15.20//NONSGML v1.0//EN
CALSCALE:GREGORIAN
METHOD:PUBLISH
X-ORIGINAL-URL:https://innergarden.nu
X-WR-CALDESC:Händelser för Innergården Linköping
REFRESH-INTERVAL;VALUE=DURATION:PT1H
X-Robots-Tag:noindex
X-PUBLISHED-TTL:PT1H
BEGIN:VTIMEZONE
TZID:Europe/Paris
BEGIN:DAYLIGHT
TZOFFSETFROM:+0100
TZOFFSETTO:+0200
TZNAME:CEST
DTSTART:20240331T010000
END:DAYLIGHT
BEGIN:STANDARD
TZOFFSETFROM:+0200
TZOFFSETTO:+0100
TZNAME:CET
DTSTART:20241027T010000
END:STANDARD
BEGIN:DAYLIGHT
TZOFFSETFROM:+0100
TZOFFSETTO:+0200
TZNAME:CEST
DTSTART:20250330T010000
END:DAYLIGHT
BEGIN:STANDARD
TZOFFSETFROM:+0200
TZOFFSETTO:+0100
TZNAME:CET
DTSTART:20251026T010000
END:STANDARD
BEGIN:DAYLIGHT
TZOFFSETFROM:+0100
TZOFFSETTO:+0200
TZNAME:CEST
DTSTART:20260329T010000
END:DAYLIGHT
BEGIN:STANDARD
TZOFFSETFROM:+0200
TZOFFSETTO:+0100
TZNAME:CET
DTSTART:20261025T010000
END:STANDARD
END:VTIMEZONE
BEGIN:VEVENT
DTSTART;TZID=Europe/Paris:20250717T190000
DTEND;TZID=Europe/Paris:20250718T210000
DTSTAMP:20260422T165817
CREATED:20250424T130853Z
LAST-MODIFIED:20250424T131032Z
UID:1729-1752778800-1752872400@innergarden.nu
SUMMARY:Innergården LIVE - 17-18 juli - Mathias Brandin Beltramo
DESCRIPTION:INNERGÅRDEN LIVE \nLivemusik varje torsdag & fredag på Linköpings härligaste Innergård  Det blir en blandning av akustiska covers\, Pop\, Soul och Rock’n’Roll från några av Linköpings bästa artister!\n\n\n\n\nTorsdagen och fredagen 17-18 juli presenterar vi Mathias Brandin Beltramo! Mathias spelar 100% covers med pop\, rock och soul – både nytt och gammalt! Önskemål är även välkomna!\n\n\n\n\n⮕ Fri entré!Kom och häng med oss och upplev livemusik när den är som bäst!
URL:https://innergarden.nu/event/innergarden-live-17-18-juli-mathias-brandin-beltramo/
CATEGORIES:live
ATTACH;FMTTYPE=image/png:https://innergarden.nu/wp-content/uploads/2025/04/Innergarden_2025_Linkoping_Event_Livemusik_Musik_17-18_Juli_Mathias_Brandin_Beltramo_FB.png
END:VEVENT
BEGIN:VEVENT
DTSTART;TZID=Europe/Paris:20250717T210000
DTEND;TZID=Europe/Paris:20250718T000000
DTSTAMP:20260422T165817
CREATED:20250716T083337Z
LAST-MODIFIED:20250716T083337Z
UID:1850-1752786000-1752796800@innergarden.nu
SUMMARY:Fotbolls EM Sverige-England 17 juli 21:00
DESCRIPTION:🇸🇪⚽️ VI VISAR MATCHEN! ⚽️🇸🇪 \nTorsdag 17 juli visar vi DAM EM Sverige–England på Innergården i Linköping! Matchstart 21:00 – kom och heja fram Sverige med oss! 🇸🇪🔥 \n🕓 Öppet 16:00–00:00\n🍻 After work-priser fram till 20:00 – passa på! \nTa med vännerna\, säkra en plats i solen (eller under tak) och njut av bra stämning\, god mat och kalla drycker. Ses på Innergården! 💛💙
URL:https://innergarden.nu/event/fotbolls-em-sverige-england-17-juli-2100/
ATTACH;FMTTYPE=image/png:https://innergarden.nu/wp-content/uploads/2025/07/Innergarden_FB_07_17_Fotbolls_EM.png
END:VEVENT
END:VCALENDAR