BEGIN:VCALENDAR
VERSION:2.0
PRODID:-//Innergården Linköping - ECPv6.15.20//NONSGML v1.0//EN
CALSCALE:GREGORIAN
METHOD:PUBLISH
X-WR-CALNAME:Innergården Linköping
X-ORIGINAL-URL:https://innergarden.nu
X-WR-CALDESC:Händelser för Innergården Linköping
REFRESH-INTERVAL;VALUE=DURATION:PT1H
X-Robots-Tag:noindex
X-PUBLISHED-TTL:PT1H
BEGIN:VTIMEZONE
TZID:Europe/Paris
BEGIN:DAYLIGHT
TZOFFSETFROM:+0100
TZOFFSETTO:+0200
TZNAME:CEST
DTSTART:20240331T010000
END:DAYLIGHT
BEGIN:STANDARD
TZOFFSETFROM:+0200
TZOFFSETTO:+0100
TZNAME:CET
DTSTART:20241027T010000
END:STANDARD
BEGIN:DAYLIGHT
TZOFFSETFROM:+0100
TZOFFSETTO:+0200
TZNAME:CEST
DTSTART:20250330T010000
END:DAYLIGHT
BEGIN:STANDARD
TZOFFSETFROM:+0200
TZOFFSETTO:+0100
TZNAME:CET
DTSTART:20251026T010000
END:STANDARD
BEGIN:DAYLIGHT
TZOFFSETFROM:+0100
TZOFFSETTO:+0200
TZNAME:CEST
DTSTART:20260329T010000
END:DAYLIGHT
BEGIN:STANDARD
TZOFFSETFROM:+0200
TZOFFSETTO:+0100
TZNAME:CET
DTSTART:20261025T010000
END:STANDARD
END:VTIMEZONE
BEGIN:VEVENT
DTSTART;TZID=Europe/Paris:20250731T190000
DTEND;TZID=Europe/Paris:20250731T210000
DTSTAMP:20260422T152759
CREATED:20250424T131211Z
LAST-MODIFIED:20250424T131306Z
UID:1737-1753988400-1753995600@innergarden.nu
SUMMARY:Innergården LIVE - 31 juli - Fab4
DESCRIPTION:INNERGÅRDEN LIVE \nLivemusik varje torsdag & fredag på Linköpings härligaste Innergård  Det blir en blandning av akustiska covers\, Pop\, Soul och Rock’n’Roll från några av Linköpings bästa artister!\n\n\n\n\nTorsdagen 31 juli presenterar vi Fab4! Fab 4 bjuder på tidslösa och sköna akustiska coverhits som får publiken att sjunga med \n\n\n\n\n⮕ Fri entré!Kom och häng med oss och upplev livemusik när den är som bäst!
URL:https://innergarden.nu/event/innergarden-live-31-juli-fab4/
CATEGORIES:live
ATTACH;FMTTYPE=image/png:https://innergarden.nu/wp-content/uploads/2025/04/Innergarden_2025_Linkoping_Event_Livemusik_Musik_31_Juli_Fab4_FB.png
END:VEVENT
END:VCALENDAR