BEGIN:VCALENDAR
VERSION:2.0
PRODID:-//Innergården Linköping - ECPv6.15.20//NONSGML v1.0//EN
CALSCALE:GREGORIAN
METHOD:PUBLISH
X-ORIGINAL-URL:https://innergarden.nu
X-WR-CALDESC:Händelser för Innergården Linköping
REFRESH-INTERVAL;VALUE=DURATION:PT1H
X-Robots-Tag:noindex
X-PUBLISHED-TTL:PT1H
BEGIN:VTIMEZONE
TZID:Europe/Paris
BEGIN:DAYLIGHT
TZOFFSETFROM:+0100
TZOFFSETTO:+0200
TZNAME:CEST
DTSTART:20250330T010000
END:DAYLIGHT
BEGIN:STANDARD
TZOFFSETFROM:+0200
TZOFFSETTO:+0100
TZNAME:CET
DTSTART:20251026T010000
END:STANDARD
BEGIN:DAYLIGHT
TZOFFSETFROM:+0100
TZOFFSETTO:+0200
TZNAME:CEST
DTSTART:20260329T010000
END:DAYLIGHT
BEGIN:STANDARD
TZOFFSETFROM:+0200
TZOFFSETTO:+0100
TZNAME:CET
DTSTART:20261025T010000
END:STANDARD
BEGIN:DAYLIGHT
TZOFFSETFROM:+0100
TZOFFSETTO:+0200
TZNAME:CEST
DTSTART:20270328T010000
END:DAYLIGHT
BEGIN:STANDARD
TZOFFSETFROM:+0200
TZOFFSETTO:+0100
TZNAME:CET
DTSTART:20271031T010000
END:STANDARD
END:VTIMEZONE
BEGIN:VEVENT
DTSTART;TZID=Europe/Paris:20260522T190000
DTEND;TZID=Europe/Paris:20260522T200000
DTSTAMP:20260422T181140
CREATED:20260414T123453Z
LAST-MODIFIED:20260414T123453Z
UID:2053-1779476400-1779480000@innergarden.nu
SUMMARY:Innergården LIVE - 22 maj - Airtime - FRI ENTRÉ
DESCRIPTION:INNERGÅRDEN LIVE 🎶\nVälkommen till livemusik på Linköpings härligaste innergård 🌟 \nHär bjuder vi på skön stämning\, härlig atmosfär och en mix av akustiska covers\, pop\, soul och rock’n’roll – framfört av några av Linköpings bästa artister. Perfekt för after work\, en sommarkväll med vänner eller när du bara vill njuta av riktigt bra livemusik i en avslappnad miljö! \n22 maj presenterar vi AirTime! AirTime är ett band som är baserat i Stockholm och Linköping\, och spelar låtar från framför allt den amerikanska västkusten – ibland kallat AOR\, ibland Yatch Rock – eller ”A smooth soul and westcoast-tribute”\, som vi brukar säga. \nDet blir en skön blandning är låtar från artister som Toto\, Van Morrison\, Michael McDonald\, Randy Crawford\, Stevie Wonder\, Sade\, Michael Jackson m fl. \nMedlemmarna i bandet har lång erfarenhet från musikbranschen och återfinns i många olika band i landet. \n⮕ FRI ENTRÉ \nTa med vännerna\, luta dig tillbaka och upplev livemusik när den är som bäst!
URL:https://innergarden.nu/event/innergarden-live-22-maj-airtime-fri-entre/
CATEGORIES:live
ATTACH;FMTTYPE=image/png:https://innergarden.nu/wp-content/uploads/2026/04/Innergarden_2026_Linkoping_Event_Livemusik_Musik_22_Maj_Airtime.png
END:VEVENT
END:VCALENDAR