BEGIN:VCALENDAR
VERSION:2.0
PRODID:-//Innergården Linköping - ECPv6.15.20//NONSGML v1.0//EN
CALSCALE:GREGORIAN
METHOD:PUBLISH
X-ORIGINAL-URL:https://innergarden.nu
X-WR-CALDESC:Händelser för Innergården Linköping
REFRESH-INTERVAL;VALUE=DURATION:PT1H
X-Robots-Tag:noindex
X-PUBLISHED-TTL:PT1H
BEGIN:VTIMEZONE
TZID:Europe/Paris
BEGIN:DAYLIGHT
TZOFFSETFROM:+0100
TZOFFSETTO:+0200
TZNAME:CEST
DTSTART:20250330T010000
END:DAYLIGHT
BEGIN:STANDARD
TZOFFSETFROM:+0200
TZOFFSETTO:+0100
TZNAME:CET
DTSTART:20251026T010000
END:STANDARD
BEGIN:DAYLIGHT
TZOFFSETFROM:+0100
TZOFFSETTO:+0200
TZNAME:CEST
DTSTART:20260329T010000
END:DAYLIGHT
BEGIN:STANDARD
TZOFFSETFROM:+0200
TZOFFSETTO:+0100
TZNAME:CET
DTSTART:20261025T010000
END:STANDARD
BEGIN:DAYLIGHT
TZOFFSETFROM:+0100
TZOFFSETTO:+0200
TZNAME:CEST
DTSTART:20270328T010000
END:DAYLIGHT
BEGIN:STANDARD
TZOFFSETFROM:+0200
TZOFFSETTO:+0100
TZNAME:CET
DTSTART:20271031T010000
END:STANDARD
END:VTIMEZONE
BEGIN:VEVENT
DTSTART;TZID=Europe/Paris:20260610T220000
DTEND;TZID=Europe/Paris:20260611T030000
DTSTAMP:20260422T200038
CREATED:20260326T134548Z
LAST-MODIFIED:20260326T134808Z
UID:1931-1781128800-1781146800@innergarden.nu
SUMMARY:Charlie’s – STUDENTVECKAN 10 JUNI - White Party ft. Sergio Congollo & Daniel Liljhagen
DESCRIPTION:FÖRKÖP: https://www.tickster.com/se/sv/events/lp8n5h94rdg9h2f\nWHITE PARTY – STUDENTVECKAN\nVårt WHITE PARTY har blivit en klassiker på studentveckan\, detta år är inget undantag. Onsdagen den 10e juni slår vi återigen upp portarna för STUDENTVECKANS första fest. Vi klär oss helt i vitt och fortsätter veckan mot den stora dagen!\nCharlie´s i sig behöver ingen närmare presentation\, dom som vet dom vet\, men har du inte upplevt det än så är det hög tid. Vi har varit bäst på sommarklubb i många år nu!\nKvällen till ära gästas vi av två galna stämningsskapare från Göteborg. MC Sergio Dahlqvist och på saxofon Daniel Liljeghagen.\nVIPBORD: DM @charlies_lkpg\nDatum: 10 juni 2026Tid: 22.00-03.00DJ/SAXOFON: Sergio Congollo & Daniel LiljhagenÅlder: 18+\nVälkommen. Welcome. Bienvenue. Yokoso….
URL:https://innergarden.nu/event/charlies-studentveckan-10-juni/
CATEGORIES:charlies
ATTACH;FMTTYPE=image/png:https://innergarden.nu/wp-content/uploads/2026/03/Charlies_2026_Studenten_0610_White_Party_FB.png
END:VEVENT
END:VCALENDAR