BEGIN:VCALENDAR
VERSION:2.0
PRODID:-//Innergården Linköping - ECPv6.15.20//NONSGML v1.0//EN
CALSCALE:GREGORIAN
METHOD:PUBLISH
X-WR-CALNAME:Innergården Linköping
X-ORIGINAL-URL:https://innergarden.nu
X-WR-CALDESC:Händelser för Innergården Linköping
REFRESH-INTERVAL;VALUE=DURATION:PT1H
X-Robots-Tag:noindex
X-PUBLISHED-TTL:PT1H
BEGIN:VTIMEZONE
TZID:Europe/Paris
BEGIN:DAYLIGHT
TZOFFSETFROM:+0100
TZOFFSETTO:+0200
TZNAME:CEST
DTSTART:20250330T010000
END:DAYLIGHT
BEGIN:STANDARD
TZOFFSETFROM:+0200
TZOFFSETTO:+0100
TZNAME:CET
DTSTART:20251026T010000
END:STANDARD
BEGIN:DAYLIGHT
TZOFFSETFROM:+0100
TZOFFSETTO:+0200
TZNAME:CEST
DTSTART:20260329T010000
END:DAYLIGHT
BEGIN:STANDARD
TZOFFSETFROM:+0200
TZOFFSETTO:+0100
TZNAME:CET
DTSTART:20261025T010000
END:STANDARD
BEGIN:DAYLIGHT
TZOFFSETFROM:+0100
TZOFFSETTO:+0200
TZNAME:CEST
DTSTART:20270328T010000
END:DAYLIGHT
BEGIN:STANDARD
TZOFFSETFROM:+0200
TZOFFSETTO:+0100
TZNAME:CET
DTSTART:20271031T010000
END:STANDARD
END:VTIMEZONE
BEGIN:VEVENT
DTSTART;TZID=Europe/Paris:20260612T220000
DTEND;TZID=Europe/Paris:20260613T030000
DTSTAMP:20260422T224109
CREATED:20260326T134834Z
LAST-MODIFIED:20260326T134948Z
UID:1935-1781301600-1781319600@innergarden.nu
SUMMARY:Charlie’s – STUDENTVECKAN 12 JUNI - Studentfesten ft. NICHOLAS SVENSSON
DESCRIPTION:FÖRKÖP: https://www.tickster.com/se/sv/events/b71gbv8jryc0td8\nSTUDENTFESTEN – STUDENTVECKAN\nSjungom studentens lyckliga dag! Äntligen är det dags att fira FRIHETEN och självklart gör du den bäst hos oss. Vi ställer till med Linköpings absolut fetaste studentfest fredagen den 12 juni.\nCharlie´s i sig behöver ingen närmare presentation\, dom som vet dom vet\, men har du inte upplevt det än så är det hög tid. Vi har varit bäst på sommarklubb i många år nu!\nKvällen till ära gästas vi av Linköpingssonen NICHOLAS SVENSSON som fått dansgolven att vibrera de senaste åren.\nFörvänta er en bonanza av grym musik och underbar stämning!\nVIPBORD: DM @charlieslkpg\nDatum: 12 juni 2026Tid: 22.00-03.00Ålder: 18+\nVälkommen. Welcome. Bienvenue. Yokoso….
URL:https://innergarden.nu/event/charlies-studentveckan-12-juni/
CATEGORIES:charlies
ATTACH;FMTTYPE=image/png:https://innergarden.nu/wp-content/uploads/2026/03/Charlies_2026_Studenten_0612_Studentdagen_FB.png
END:VEVENT
BEGIN:VEVENT
DTSTART;TZID=Europe/Paris:20260613T190000
DTEND;TZID=Europe/Paris:20260613T200000
DTSTAMP:20260422T224109
CREATED:20260414T124327Z
LAST-MODIFIED:20260414T124327Z
UID:2056-1781377200-1781380800@innergarden.nu
SUMMARY:Innergården LIVE - 13 juni - Airtime - FRI ENTRÉ
DESCRIPTION:INNERGÅRDEN LIVE 🎶\nVälkommen till livemusik på Linköpings härligaste innergård 🌟 \nHär bjuder vi på skön stämning\, härlig atmosfär och en mix av akustiska covers\, pop\, soul och rock’n’roll – framfört av några av Linköpings bästa artister. Perfekt för after work\, en sommarkväll med vänner eller när du bara vill njuta av riktigt bra livemusik i en avslappnad miljö! \n13 juni presenterar vi AirTime! AirTime är ett band som är baserat i Stockholm och Linköping\, och spelar låtar från framför allt den amerikanska västkusten – ibland kallat AOR\, ibland Yatch Rock – eller ”A smooth soul and westcoast-tribute”\, som vi brukar säga. \nDet blir en skön blandning är låtar från artister som Toto\, Van Morrison\, Michael McDonald\, Randy Crawford\, Stevie Wonder\, Sade\, Michael Jackson m fl. \nMedlemmarna i bandet har lång erfarenhet från musikbranschen och återfinns i många olika band i landet. \n⮕ FRI ENTRÉ \nTa med vännerna\, luta dig tillbaka och upplev livemusik när den är som bäst!
URL:https://innergarden.nu/event/innergarden-live-13-juni-airtime-fri-entre/
CATEGORIES:live
ATTACH;FMTTYPE=image/png:https://innergarden.nu/wp-content/uploads/2026/04/Innergarden_2026_Linkoping_Event_Livemusik_Musik_13_juni_Airtime.png
END:VEVENT
END:VCALENDAR