BEGIN:VCALENDAR
VERSION:2.0
PRODID:-//Innergården Linköping - ECPv6.15.20//NONSGML v1.0//EN
CALSCALE:GREGORIAN
METHOD:PUBLISH
X-WR-CALNAME:Innergården Linköping
X-ORIGINAL-URL:https://innergarden.nu
X-WR-CALDESC:Händelser för Innergården Linköping
REFRESH-INTERVAL;VALUE=DURATION:PT1H
X-Robots-Tag:noindex
X-PUBLISHED-TTL:PT1H
BEGIN:VTIMEZONE
TZID:Europe/Paris
BEGIN:DAYLIGHT
TZOFFSETFROM:+0100
TZOFFSETTO:+0200
TZNAME:CEST
DTSTART:20240331T010000
END:DAYLIGHT
BEGIN:STANDARD
TZOFFSETFROM:+0200
TZOFFSETTO:+0100
TZNAME:CET
DTSTART:20241027T010000
END:STANDARD
BEGIN:DAYLIGHT
TZOFFSETFROM:+0100
TZOFFSETTO:+0200
TZNAME:CEST
DTSTART:20250330T010000
END:DAYLIGHT
BEGIN:STANDARD
TZOFFSETFROM:+0200
TZOFFSETTO:+0100
TZNAME:CET
DTSTART:20251026T010000
END:STANDARD
BEGIN:DAYLIGHT
TZOFFSETFROM:+0100
TZOFFSETTO:+0200
TZNAME:CEST
DTSTART:20260329T010000
END:DAYLIGHT
BEGIN:STANDARD
TZOFFSETFROM:+0200
TZOFFSETTO:+0100
TZNAME:CET
DTSTART:20261025T010000
END:STANDARD
END:VTIMEZONE
BEGIN:VEVENT
DTSTART;TZID=Europe/Paris:20250609T220000
DTEND;TZID=Europe/Paris:20250610T030000
DTSTAMP:20260425T172557
CREATED:20250506T114428Z
LAST-MODIFIED:20250603T063940Z
UID:1798-1749506400-1749524400@innergarden.nu
SUMMARY:Charlie's - STUDENTVECKAN 9 JUNI - After Beach ft. Alltid på Gång
DESCRIPTION:FÖRKÖP: https://www.tickster.com/se/sv/events/jtyzptupxexz51e\nFör första gången i Charlie´s historia slår vi upp portarna för inte bara två utan tre fester under STUDENTVECKAN!\nVi sparkar igång veckan redan på måndagen och välkomnar alla hem från sina studentresor med en riktigt röjig AFTER BEACH med liveband! Kom och dansa och visa upp brännan i er bästa after-beach-outfit.\nKvällen till ära så gästas vi av det otroliga livebandet Alltid på Gång som har lovat att vrida upp pulsen rejält!\nCharlie´s i sig behöver ingen närmare presentation\, dom som vet dom vet\, men har du inte upplevt det än så är det hög tid. Vi har varit bäst på sommarklubb i många år nu!\n…………………………………………………..\nDatum: 9 juni 2025Tid: 22.00-03.00Liveband: SUNDETÅlder: 18+\nPris: DÖRR 125 SEK | FÖRKÖP 100 SEK\nVälkommen. Welcome. Bienvenue. Yokoso….
URL:https://innergarden.nu/event/charlies-studentveckan-9-juni-after-beach-ft-sundet/
CATEGORIES:charlies
ATTACH;FMTTYPE=image/png:https://innergarden.nu/wp-content/uploads/2025/05/Charlies_2025_Studenten_After_Beach_06_09_FB_1920x1005-1.png
END:VEVENT
BEGIN:VEVENT
DTSTART;TZID=Europe/Paris:20250611T220000
DTEND;TZID=Europe/Paris:20250612T030000
DTSTAMP:20260425T172557
CREATED:20250506T114729Z
LAST-MODIFIED:20250506T114729Z
UID:1802-1749679200-1749697200@innergarden.nu
SUMMARY:Charlie's - STUDENTVECKAN 11 JUNI - White Party ft. Sergio Congollo & Daniel Liljhagen
DESCRIPTION:FÖRKÖP: https://www.tickster.com/se/sv/events/83bnj3dbbdt35zz\nVårt WHITE PARTY har blivit en klassiker på studentveckan\, detta år är inget undantag. Onsdagen den 11e juni slår vi återigen upp portarna för STUDENTVECKANS andra fest. Vi klär oss helt i vitt och fortsätter veckan mot den stora dagen!\nCharlie´s i sig behöver ingen närmare presentation\, dom som vet dom vet\, men har du inte upplevt det än så är det hög tid. Vi har varit bäst på sommarklubb i många år nu!\nKvällen till ära gästas vi av två galna stämningsskapare från Göteborg. MC Sergio Dahlqvist och på saxofon Daniel Liljeghagen.\nBORDSFÖRFRÅGAN: bord@charlieslkpg.se | DM @charlies_lkpg\n…………………………………………………..\nDatum: 12 juni 2024Tid: 22.00-03.00DJ/SAXOFON: Sergio Congollo & Daniel LiljhagenÅlder: 18+\nPris: DÖRR 175 SEK | FÖRKÖP 150 SEK\nVälkommen. Welcome. Bienvenue. Yokoso….
URL:https://innergarden.nu/event/charlies-studentveckan-11-juni-white-party-ft-sergio-congollo-daniel-liljhagen/
CATEGORIES:charlies
ATTACH;FMTTYPE=image/png:https://innergarden.nu/wp-content/uploads/2025/05/Charlies_2025_Studenten_White_Party_06_11_FB_1920x1005.png
END:VEVENT
BEGIN:VEVENT
DTSTART;TZID=Europe/Paris:20250613T220000
DTEND;TZID=Europe/Paris:20250614T030000
DTSTAMP:20260425T172557
CREATED:20250506T115029Z
LAST-MODIFIED:20250506T115029Z
UID:1805-1749852000-1749870000@innergarden.nu
SUMMARY:Charlie's - STUDENTVECKAN 13 JUNI - Studentfesten ft. NICHOLAS SVENSSON
DESCRIPTION:FÖRKÖP: https://www.tickster.com/se/sv/events/34e1gluxxwkdfpl\nSjungom studentens lyckliga dag! Äntligen är det dags att fira FRIHETEN och självklart gör du den bäst hos oss. Vi ställer till med Linköpings absolut fetaste studentfest fredagen den 13 juni.\nCharlie´s i sig behöver ingen närmare presentation\, dom som vet dom vet\, men har du inte upplevt det än så är det hög tid. Vi har varit bäst på sommarklubb i många år nu!\nKvällen till ära gästas vi av Linköpingssonen NICHOLAS SVENSSON som fått dansgolven att vibrera de senaste åren.\nFörvänta er en bonanza av grym musik och underbar stämning!\nBokning av VIPBORD: bord@charlieslkpg.se | DM @charlieslkpg\n…………………………………………………..\nDatum: 13 juni 2023Tid: 22.00-03.00Ålder: 18+\nPris: DÖRR 250 SEK FÖRKÖP 200 SEK\nVälkommen. Welcome. Bienvenue. Yokoso….
URL:https://innergarden.nu/event/charlies-studentveckan-13-juni-studentfesten-ft-nicholas-svensson/
CATEGORIES:charlies
ATTACH;FMTTYPE=image/png:https://innergarden.nu/wp-content/uploads/2025/05/Charlies_2025_Studenten_STUDENTFESTEN_06_13_FB_1920x1005.png
END:VEVENT
END:VCALENDAR