BEGIN:VCALENDAR
VERSION:2.0
PRODID:-//Innergården Linköping - ECPv6.15.20//NONSGML v1.0//EN
CALSCALE:GREGORIAN
METHOD:PUBLISH
X-ORIGINAL-URL:https://innergarden.nu
X-WR-CALDESC:Händelser för Innergården Linköping
REFRESH-INTERVAL;VALUE=DURATION:PT1H
X-Robots-Tag:noindex
X-PUBLISHED-TTL:PT1H
BEGIN:VTIMEZONE
TZID:Europe/Paris
BEGIN:DAYLIGHT
TZOFFSETFROM:+0100
TZOFFSETTO:+0200
TZNAME:CEST
DTSTART:20250330T010000
END:DAYLIGHT
BEGIN:STANDARD
TZOFFSETFROM:+0200
TZOFFSETTO:+0100
TZNAME:CET
DTSTART:20251026T010000
END:STANDARD
BEGIN:DAYLIGHT
TZOFFSETFROM:+0100
TZOFFSETTO:+0200
TZNAME:CEST
DTSTART:20260329T010000
END:DAYLIGHT
BEGIN:STANDARD
TZOFFSETFROM:+0200
TZOFFSETTO:+0100
TZNAME:CET
DTSTART:20261025T010000
END:STANDARD
BEGIN:DAYLIGHT
TZOFFSETFROM:+0100
TZOFFSETTO:+0200
TZNAME:CEST
DTSTART:20270328T010000
END:DAYLIGHT
BEGIN:STANDARD
TZOFFSETFROM:+0200
TZOFFSETTO:+0100
TZNAME:CET
DTSTART:20271031T010000
END:STANDARD
END:VTIMEZONE
BEGIN:VEVENT
DTSTART;TZID=Europe/Paris:20260430T190000
DTEND;TZID=Europe/Paris:20260502T210000
DTSTAMP:20260422T201853
CREATED:20260304T091906Z
LAST-MODIFIED:20260304T091906Z
UID:1918-1777575600-1777755600@innergarden.nu
SUMMARY:PREMIÄR Innergården LIVE - 30 april & 1-2 maj - Gul Front - FRI ENTRÉ
DESCRIPTION:INNERGÅRDEN LIVE 🎶\nVälkommen till livemusik på Linköpings härligaste innergård 🌟 \nHär bjuder vi på skön stämning\, härlig atmosfär och en mix av akustiska covers\, pop\, soul och rock’n’roll – framfört av några av Linköpings bästa artister. Perfekt för after work\, en sommarkväll med vänner eller när du bara vill njuta av riktigt bra livemusik i en avslappnad miljö! \nPREMIÄR – 30 april & 1-2 maj presenterar vi Gul Front!\nDenna energifyllda duo\, bestående av Yellowmike och hans kollega Daniel\, skapar magiska kvällar med sin humor\, musikalitet och fingertoppkänsla för publiken. Tillsammans levererar de en bred repertoar och en scennärvaro som snabbt lyfter stämningen – oavsett om det handlar om lugn loungemusik eller en vild fest. \nDuon spelar frekvent i Sälen och är dessutom Svenska Fotbollförbundets husband\, vilket vittnar om deras erfarenhet\, kvalitet och förmåga att skapa stämning på både stora och små scener. \n⮕ FRI ENTRÉ \nTa med vännerna\, luta dig tillbaka och upplev livemusik när den är som bäst!
URL:https://innergarden.nu/event/premiar-innergarden-live-30-april-1-2-maj-gul-front-fri-entre/
CATEGORIES:live
ATTACH;FMTTYPE=image/png:https://innergarden.nu/wp-content/uploads/2026/03/Innergarden_2026_Linkoping_Event_Livemusik_Musik_April_Maj_Gul_Front.png
END:VEVENT
BEGIN:VEVENT
DTSTART;TZID=Europe/Paris:20260507T190000
DTEND;TZID=Europe/Paris:20260507T200000
DTSTAMP:20260422T201853
CREATED:20260414T114120Z
LAST-MODIFIED:20260414T122504Z
UID:2028-1778180400-1778184000@innergarden.nu
SUMMARY:Innergården LIVE - 7 maj - Emil Mattisson - FRI ENTRÉ
DESCRIPTION:INNERGÅRDEN LIVE 🎶\nVälkommen till livemusik på Linköpings härligaste innergård 🌟 \nHär bjuder vi på skön stämning\, härlig atmosfär och en mix av akustiska covers\, pop\, soul och rock’n’roll – framfört av några av Linköpings bästa artister. Perfekt för after work\, en sommarkväll med vänner eller när du bara vill njuta av riktigt bra livemusik i en avslappnad miljö! \n7 maj presenterar vi Emil Mattisson – sångaren\, musikern och entertainern från Växjö som turnerar runt om i vårt avlånga land\, men även i Norden och världen. \nHär bjuds det på musik\, humor och glimten i ögat – en kväll fylld av energi\, skratt och allsång. \nAllt från Bruce Springsteen till Thomas Stenström\, Veronica Maggio och Tomas Ledin blandas med egna tolkningar och massor av härlig stämning. \n⮕ FRI ENTRÉ \nTa med vännerna\, luta dig tillbaka och upplev livemusik när den är som bäst!
URL:https://innergarden.nu/event/innergarden-live-7-maj-emil-mattisson-fri-entre/
CATEGORIES:live
ATTACH;FMTTYPE=image/png:https://innergarden.nu/wp-content/uploads/2026/04/Innergarden_2026_Linkoping_Event_Livemusik_Musik_7_Maj_Emil.png
END:VEVENT
BEGIN:VEVENT
DTSTART;TZID=Europe/Paris:20260508T190000
DTEND;TZID=Europe/Paris:20260508T200000
DTSTAMP:20260422T201853
CREATED:20260414T104414Z
LAST-MODIFIED:20260414T112228Z
UID:1994-1778266800-1778270400@innergarden.nu
SUMMARY:Innergården LIVE - 8 maj - Juno - FRI ENTRÉ
DESCRIPTION:INNERGÅRDEN LIVE 🎶\nVälkommen till livemusik på Linköpings härligaste innergård 🌟 \nHär bjuder vi på skön stämning\, härlig atmosfär och en mix av akustiska covers\, pop\, soul och rock’n’roll – framfört av några av Linköpings bästa artister. Perfekt för after work\, en sommarkväll med vänner eller när du bara vill njuta av riktigt bra livemusik i en avslappnad miljö! \n8 maj presenterar vi Juno!\nJuno har varit verksam som heltidsartist under större delen av sitt liv och har uppträtt på scener runt om i Skandinavien samt i delar av Europa. Med lång och gedigen erfarenhet är Juno en etablerad och erfaren liveartist med stark scennärvaro. \nMed ett stort antal spelningar på afterski\, after beach\, restauranger och nöjesställen har Juno byggt upp en bred musikalisk kompetens och en tydlig förmåga att möta olika publiker och sammanhang. Repertoaren är varierad och anpassas med känsla efter varje tillfälle. \nGenom hög professionalism\, musikalisk bredd och genuin spelglädje skapas minnesvärda upplevelser där publikkontakt och närvaro står i centrum. För Juno är musiken inte bara ett yrke – utan en livslång passion. \n⮕ FRI ENTRÉ \nTa med vännerna\, luta dig tillbaka och upplev livemusik när den är som bäst!
URL:https://innergarden.nu/event/innergarden-live-8-maj-juno-fri-entre/
CATEGORIES:live
ATTACH;FMTTYPE=image/png:https://innergarden.nu/wp-content/uploads/2026/04/Innergarden_2026_Linkoping_Event_Livemusik_Musik_8_Maj_Juno-1.png
END:VEVENT
BEGIN:VEVENT
DTSTART;TZID=Europe/Paris:20260509T190000
DTEND;TZID=Europe/Paris:20260509T200000
DTSTAMP:20260422T201853
CREATED:20260414T120137Z
LAST-MODIFIED:20260414T122537Z
UID:2038-1778353200-1778356800@innergarden.nu
SUMMARY:Innergården LIVE - 9 maj - Sara & Micke - FRI ENTRÉ
DESCRIPTION:INNERGÅRDEN LIVE 🎶\nVälkommen till livemusik på Linköpings härligaste innergård 🌟 \nHär bjuder vi på skön stämning\, härlig atmosfär och en mix av akustiska covers\, pop\, soul och rock’n’roll – framfört av några av Linköpings bästa artister. Perfekt för after work\, en sommarkväll med vänner eller när du bara vill njuta av riktigt bra livemusik i en avslappnad miljö! \n9 maj presenterar vi Sara & Micke! Sara & Micke är en musikduo som spelar akustiska covers på både gamla och nya låtar 🎸 Deras avslappnade och härliga framträdanden ger en feel-good-vibe och får dig att sjunga med eller bara luta sig tillbaka och njuta! \n⮕ FRI ENTRÉ \nTa med vännerna\, luta dig tillbaka och upplev livemusik när den är som bäst!
URL:https://innergarden.nu/event/innergarden-live-9-maj-sara-micke-fri-entre/
CATEGORIES:live
ATTACH;FMTTYPE=image/png:https://innergarden.nu/wp-content/uploads/2026/04/Innergarden_2026_Linkoping_Event_Livemusik_Musik_9_Maj_Sara_Micke.png
END:VEVENT
BEGIN:VEVENT
DTSTART;TZID=Europe/Paris:20260522T190000
DTEND;TZID=Europe/Paris:20260522T200000
DTSTAMP:20260422T201853
CREATED:20260414T123453Z
LAST-MODIFIED:20260414T123453Z
UID:2053-1779476400-1779480000@innergarden.nu
SUMMARY:Innergården LIVE - 22 maj - Airtime - FRI ENTRÉ
DESCRIPTION:INNERGÅRDEN LIVE 🎶\nVälkommen till livemusik på Linköpings härligaste innergård 🌟 \nHär bjuder vi på skön stämning\, härlig atmosfär och en mix av akustiska covers\, pop\, soul och rock’n’roll – framfört av några av Linköpings bästa artister. Perfekt för after work\, en sommarkväll med vänner eller när du bara vill njuta av riktigt bra livemusik i en avslappnad miljö! \n22 maj presenterar vi AirTime! AirTime är ett band som är baserat i Stockholm och Linköping\, och spelar låtar från framför allt den amerikanska västkusten – ibland kallat AOR\, ibland Yatch Rock – eller ”A smooth soul and westcoast-tribute”\, som vi brukar säga. \nDet blir en skön blandning är låtar från artister som Toto\, Van Morrison\, Michael McDonald\, Randy Crawford\, Stevie Wonder\, Sade\, Michael Jackson m fl. \nMedlemmarna i bandet har lång erfarenhet från musikbranschen och återfinns i många olika band i landet. \n⮕ FRI ENTRÉ \nTa med vännerna\, luta dig tillbaka och upplev livemusik när den är som bäst!
URL:https://innergarden.nu/event/innergarden-live-22-maj-airtime-fri-entre/
CATEGORIES:live
ATTACH;FMTTYPE=image/png:https://innergarden.nu/wp-content/uploads/2026/04/Innergarden_2026_Linkoping_Event_Livemusik_Musik_22_Maj_Airtime.png
END:VEVENT
END:VCALENDAR