BEGIN:VCALENDAR
VERSION:2.0
PRODID:-//Innergården Linköping - ECPv6.15.20//NONSGML v1.0//EN
CALSCALE:GREGORIAN
METHOD:PUBLISH
X-WR-CALNAME:Innergården Linköping
X-ORIGINAL-URL:https://innergarden.nu
X-WR-CALDESC:Händelser för Innergården Linköping
REFRESH-INTERVAL;VALUE=DURATION:PT1H
X-Robots-Tag:noindex
X-PUBLISHED-TTL:PT1H
BEGIN:VTIMEZONE
TZID:Europe/Paris
BEGIN:DAYLIGHT
TZOFFSETFROM:+0100
TZOFFSETTO:+0200
TZNAME:CEST
DTSTART:20250330T010000
END:DAYLIGHT
BEGIN:STANDARD
TZOFFSETFROM:+0200
TZOFFSETTO:+0100
TZNAME:CET
DTSTART:20251026T010000
END:STANDARD
BEGIN:DAYLIGHT
TZOFFSETFROM:+0100
TZOFFSETTO:+0200
TZNAME:CEST
DTSTART:20260329T010000
END:DAYLIGHT
BEGIN:STANDARD
TZOFFSETFROM:+0200
TZOFFSETTO:+0100
TZNAME:CET
DTSTART:20261025T010000
END:STANDARD
BEGIN:DAYLIGHT
TZOFFSETFROM:+0100
TZOFFSETTO:+0200
TZNAME:CEST
DTSTART:20270328T010000
END:DAYLIGHT
BEGIN:STANDARD
TZOFFSETFROM:+0200
TZOFFSETTO:+0100
TZNAME:CET
DTSTART:20271031T010000
END:STANDARD
END:VTIMEZONE
BEGIN:VEVENT
DTSTART;TZID=Europe/Paris:20260702T190000
DTEND;TZID=Europe/Paris:20260703T200000
DTSTAMP:20260422T201750
CREATED:20260414T114235Z
LAST-MODIFIED:20260414T122514Z
UID:2031-1783018800-1783108800@innergarden.nu
SUMMARY:Innergården LIVE - 2 & 3 juli - Emil Mattisson - FRI ENTRÉ
DESCRIPTION:INNERGÅRDEN LIVE 🎶\nVälkommen till livemusik på Linköpings härligaste innergård 🌟 \nHär bjuder vi på skön stämning\, härlig atmosfär och en mix av akustiska covers\, pop\, soul och rock’n’roll – framfört av några av Linköpings bästa artister. Perfekt för after work\, en sommarkväll med vänner eller när du bara vill njuta av riktigt bra livemusik i en avslappnad miljö! \n2 & 3 juli presenterar vi Emil Mattisson – sångaren\, musikern och entertainern från Växjö som turnerar runt om i vårt avlånga land\, men även i Norden och världen. \nHär bjuds det på musik\, humor och glimten i ögat – en kväll fylld av energi\, skratt och allsång. \nAllt från Bruce Springsteen till Thomas Stenström\, Veronica Maggio och Tomas Ledin blandas med egna tolkningar och massor av härlig stämning. \n⮕ FRI ENTRÉ \nTa med vännerna\, luta dig tillbaka och upplev livemusik när den är som bäst!
URL:https://innergarden.nu/event/innergarden-live-2-3-juli-emil-mattisson-fri-entre/
CATEGORIES:live
ATTACH;FMTTYPE=image/png:https://innergarden.nu/wp-content/uploads/2026/04/Innergarden_2026_Linkoping_Event_Livemusik_Musik_2_3_Juli_Emil.png
END:VEVENT
BEGIN:VEVENT
DTSTART;TZID=Europe/Paris:20260704T190000
DTEND;TZID=Europe/Paris:20260704T200000
DTSTAMP:20260422T201750
CREATED:20260414T121302Z
LAST-MODIFIED:20260414T122547Z
UID:2041-1783191600-1783195200@innergarden.nu
SUMMARY:Innergården LIVE - 4 juli - Micke & Benna - FRI ENTRÉ
DESCRIPTION:INNERGÅRDEN LIVE 🎶\nVälkommen till livemusik på Linköpings härligaste innergård 🌟 \nHär bjuder vi på skön stämning\, härlig atmosfär och en mix av akustiska covers\, pop\, soul och rock’n’roll – framfört av några av Linköpings bästa artister. Perfekt för after work\, en sommarkväll med vänner eller när du bara vill njuta av riktigt bra livemusik i en avslappnad miljö! \n4 juli presenterar vi Micke & Benna! Micke & Benna har nu varit ett team i hela 17 år och bjuder på akustiska hits från 70-\, 80-\, 90- och 2000-talet 🎤🎸. Med sin långa erfarenhet skapar de en härlig stämning och tar publiken med på en musikalisk resa genom flera decennier av klassiska låtar. \n⮕ FRI ENTRÉ \nTa med vännerna\, luta dig tillbaka och upplev livemusik när den är som bäst!
URL:https://innergarden.nu/event/innergarden-live-4-juli-micke-benna-fri-entre/
CATEGORIES:live
ATTACH;FMTTYPE=image/png:https://innergarden.nu/wp-content/uploads/2026/04/Innergarden_2026_Linkoping_Event_Livemusik_Musik_4_Juli_Micke_Benna.png
END:VEVENT
BEGIN:VEVENT
DTSTART;TZID=Europe/Paris:20260711T190000
DTEND;TZID=Europe/Paris:20260711T200000
DTSTAMP:20260422T201750
CREATED:20260414T105001Z
LAST-MODIFIED:20260414T112129Z
UID:1997-1783796400-1783800000@innergarden.nu
SUMMARY:Innergården LIVE - 11 juli - Juno - FRI ENTRÉ
DESCRIPTION:INNERGÅRDEN LIVE 🎶\nVälkommen till livemusik på Linköpings härligaste innergård 🌟 \nHär bjuder vi på skön stämning\, härlig atmosfär och en mix av akustiska covers\, pop\, soul och rock’n’roll – framfört av några av Linköpings bästa artister. Perfekt för after work\, en sommarkväll med vänner eller när du bara vill njuta av riktigt bra livemusik i en avslappnad miljö! \n11 juli presenterar vi Juno!\nJuno har varit verksam som heltidsartist under större delen av sitt liv och har uppträtt på scener runt om i Skandinavien samt i delar av Europa. Med lång och gedigen erfarenhet är Juno en etablerad och erfaren liveartist med stark scennärvaro. \nMed ett stort antal spelningar på afterski\, after beach\, restauranger och nöjesställen har Juno byggt upp en bred musikalisk kompetens och en tydlig förmåga att möta olika publiker och sammanhang. Repertoaren är varierad och anpassas med känsla efter varje tillfälle. \nGenom hög professionalism\, musikalisk bredd och genuin spelglädje skapas minnesvärda upplevelser där publikkontakt och närvaro står i centrum. För Juno är musiken inte bara ett yrke – utan en livslång passion. \n⮕ FRI ENTRÉ \nTa med vännerna\, luta dig tillbaka och upplev livemusik när den är som bäst!
URL:https://innergarden.nu/event/innergarden-live-11-juli-juno-fri-entre/
CATEGORIES:live
ATTACH;FMTTYPE=image/png:https://innergarden.nu/wp-content/uploads/2026/04/Innergarden_2026_Linkoping_Event_Livemusik_Musik_11_juli_Juno-1.png
END:VEVENT
BEGIN:VEVENT
DTSTART;TZID=Europe/Paris:20260723T190000
DTEND;TZID=Europe/Paris:20260724T200000
DTSTAMP:20260422T201750
CREATED:20260414T105314Z
LAST-MODIFIED:20260414T112059Z
UID:2001-1784833200-1784923200@innergarden.nu
SUMMARY:Innergården LIVE - 23 & 24 juli - Juno - FRI ENTRÉ
DESCRIPTION:INNERGÅRDEN LIVE 🎶\nVälkommen till livemusik på Linköpings härligaste innergård 🌟 \nHär bjuder vi på skön stämning\, härlig atmosfär och en mix av akustiska covers\, pop\, soul och rock’n’roll – framfört av några av Linköpings bästa artister. Perfekt för after work\, en sommarkväll med vänner eller när du bara vill njuta av riktigt bra livemusik i en avslappnad miljö! \n23 & 24 juli presenterar vi Juno!\nJuno har varit verksam som heltidsartist under större delen av sitt liv och har uppträtt på scener runt om i Skandinavien samt i delar av Europa. Med lång och gedigen erfarenhet är Juno en etablerad och erfaren liveartist med stark scennärvaro. \nMed ett stort antal spelningar på afterski\, after beach\, restauranger och nöjesställen har Juno byggt upp en bred musikalisk kompetens och en tydlig förmåga att möta olika publiker och sammanhang. Repertoaren är varierad och anpassas med känsla efter varje tillfälle. \nGenom hög professionalism\, musikalisk bredd och genuin spelglädje skapas minnesvärda upplevelser där publikkontakt och närvaro står i centrum. För Juno är musiken inte bara ett yrke – utan en livslång passion. \n⮕ FRI ENTRÉ \nTa med vännerna\, luta dig tillbaka och upplev livemusik när den är som bäst!
URL:https://innergarden.nu/event/innergarden-live-23-24-juli-juno-fri-entre/
CATEGORIES:live
ATTACH;FMTTYPE=image/png:https://innergarden.nu/wp-content/uploads/2026/04/Innergarden_2026_Linkoping_Event_Livemusik_Musik_23_24_juli_Juno-1.png
END:VEVENT
BEGIN:VEVENT
DTSTART;TZID=Europe/Paris:20260730T190000
DTEND;TZID=Europe/Paris:20260730T200000
DTSTAMP:20260422T201750
CREATED:20260414T105446Z
LAST-MODIFIED:20260414T112035Z
UID:2004-1785438000-1785441600@innergarden.nu
SUMMARY:Innergården LIVE - 30 juli - Juno - FRI ENTRÉ
DESCRIPTION:INNERGÅRDEN LIVE 🎶\nVälkommen till livemusik på Linköpings härligaste innergård 🌟 \nHär bjuder vi på skön stämning\, härlig atmosfär och en mix av akustiska covers\, pop\, soul och rock’n’roll – framfört av några av Linköpings bästa artister. Perfekt för after work\, en sommarkväll med vänner eller när du bara vill njuta av riktigt bra livemusik i en avslappnad miljö! \n30 juli presenterar vi Juno!\nJuno har varit verksam som heltidsartist under större delen av sitt liv och har uppträtt på scener runt om i Skandinavien samt i delar av Europa. Med lång och gedigen erfarenhet är Juno en etablerad och erfaren liveartist med stark scennärvaro. \nMed ett stort antal spelningar på afterski\, after beach\, restauranger och nöjesställen har Juno byggt upp en bred musikalisk kompetens och en tydlig förmåga att möta olika publiker och sammanhang. Repertoaren är varierad och anpassas med känsla efter varje tillfälle. \nGenom hög professionalism\, musikalisk bredd och genuin spelglädje skapas minnesvärda upplevelser där publikkontakt och närvaro står i centrum. För Juno är musiken inte bara ett yrke – utan en livslång passion. \n⮕ FRI ENTRÉ \nTa med vännerna\, luta dig tillbaka och upplev livemusik när den är som bäst!
URL:https://innergarden.nu/event/innergarden-live-30-juli-juno-fri-entre/
CATEGORIES:live
ATTACH;FMTTYPE=image/png:https://innergarden.nu/wp-content/uploads/2026/04/Innergarden_2026_Linkoping_Event_Livemusik_Musik_30_juli_Juno-1.png
END:VEVENT
END:VCALENDAR