BEGIN:VCALENDAR
VERSION:2.0
PRODID:-//Innergården Linköping - ECPv6.15.20//NONSGML v1.0//EN
CALSCALE:GREGORIAN
METHOD:PUBLISH
X-WR-CALNAME:Innergården Linköping
X-ORIGINAL-URL:https://innergarden.nu
X-WR-CALDESC:Händelser för Innergården Linköping
REFRESH-INTERVAL;VALUE=DURATION:PT1H
X-Robots-Tag:noindex
X-PUBLISHED-TTL:PT1H
BEGIN:VTIMEZONE
TZID:Europe/Paris
BEGIN:DAYLIGHT
TZOFFSETFROM:+0100
TZOFFSETTO:+0200
TZNAME:CEST
DTSTART:20250330T010000
END:DAYLIGHT
BEGIN:STANDARD
TZOFFSETFROM:+0200
TZOFFSETTO:+0100
TZNAME:CET
DTSTART:20251026T010000
END:STANDARD
BEGIN:DAYLIGHT
TZOFFSETFROM:+0100
TZOFFSETTO:+0200
TZNAME:CEST
DTSTART:20260329T010000
END:DAYLIGHT
BEGIN:STANDARD
TZOFFSETFROM:+0200
TZOFFSETTO:+0100
TZNAME:CET
DTSTART:20261025T010000
END:STANDARD
BEGIN:DAYLIGHT
TZOFFSETFROM:+0100
TZOFFSETTO:+0200
TZNAME:CEST
DTSTART:20270328T010000
END:DAYLIGHT
BEGIN:STANDARD
TZOFFSETFROM:+0200
TZOFFSETTO:+0100
TZNAME:CET
DTSTART:20271031T010000
END:STANDARD
END:VTIMEZONE
BEGIN:VEVENT
DTSTART;TZID=Europe/Paris:20260820T200000
DTEND;TZID=Europe/Paris:20260820T210000
DTSTAMP:20260425T122035
CREATED:20260423T104846Z
LAST-MODIFIED:20260423T104846Z
UID:2095-1787256000-1787259600@innergarden.nu
SUMMARY:Innergården LIVE - 20 augusti - Gubbröra Band - FRI ENTRÉ
DESCRIPTION:INNERGÅRDEN LIVE 🎶\nVälkommen till livemusik på Linköpings härligaste innergård 🌟 \nHär bjuder vi på skön stämning\, härlig atmosfär och en mix av akustiska covers\, pop\, soul och rock’n’roll – framfört av några av Linköpings bästa artister. Perfekt för after work\, en sommarkväll med vänner eller när du bara vill njuta av riktigt bra livemusik i en avslappnad miljö! \nTillsammans med Sensus Studieförbund presenterar vi Gubbröra Band! Gubbröra Band är fem rutinerade själar – fyra gubbar och en kvinna i sin bästa ålder – som blandar livserfarenhet med spelglädje.\nMed rötter i rock och blues levererar de musik som smakar både nostalgi och nytänk.\nDeras sound är lika kryddigt som namnet antyder – en härlig mix av skratt\, allvar och svängiga riff.\nNär Gubbröra Band kliver upp på scen blir det svårt att stå still – det här är musik att leva till \n⮕ FRI ENTRÉ \nTa med vännerna\, luta dig tillbaka och upplev livemusik när den är som bäst!
URL:https://innergarden.nu/event/innergarden-live-20-augusti-gubbrora-band-fri-entre/
CATEGORIES:live
ATTACH;FMTTYPE=image/png:https://innergarden.nu/wp-content/uploads/2026/04/Innergarden_2026_Linkoping_Event_Livemusik_Musik_10_Augusti_Gubbrora_Band.png
END:VEVENT
END:VCALENDAR