BEGIN:VCALENDAR
VERSION:2.0
PRODID:-//Innergården Linköping - ECPv6.15.20//NONSGML v1.0//EN
CALSCALE:GREGORIAN
METHOD:PUBLISH
X-WR-CALNAME:Innergården Linköping
X-ORIGINAL-URL:https://innergarden.nu
X-WR-CALDESC:Händelser för Innergården Linköping
REFRESH-INTERVAL;VALUE=DURATION:PT1H
X-Robots-Tag:noindex
X-PUBLISHED-TTL:PT1H
BEGIN:VTIMEZONE
TZID:Europe/Paris
BEGIN:DAYLIGHT
TZOFFSETFROM:+0100
TZOFFSETTO:+0200
TZNAME:CEST
DTSTART:20250330T010000
END:DAYLIGHT
BEGIN:STANDARD
TZOFFSETFROM:+0200
TZOFFSETTO:+0100
TZNAME:CET
DTSTART:20251026T010000
END:STANDARD
BEGIN:DAYLIGHT
TZOFFSETFROM:+0100
TZOFFSETTO:+0200
TZNAME:CEST
DTSTART:20260329T010000
END:DAYLIGHT
BEGIN:STANDARD
TZOFFSETFROM:+0200
TZOFFSETTO:+0100
TZNAME:CET
DTSTART:20261025T010000
END:STANDARD
BEGIN:DAYLIGHT
TZOFFSETFROM:+0100
TZOFFSETTO:+0200
TZNAME:CEST
DTSTART:20270328T010000
END:DAYLIGHT
BEGIN:STANDARD
TZOFFSETFROM:+0200
TZOFFSETTO:+0100
TZNAME:CET
DTSTART:20271031T010000
END:STANDARD
END:VTIMEZONE
BEGIN:VEVENT
DTSTART;TZID=Europe/Paris:20260707T190000
DTEND;TZID=Europe/Paris:20260707T203000
DTSTAMP:20260422T185834
CREATED:20260408T091705Z
LAST-MODIFIED:20260408T091705Z
UID:1968-1783450800-1783456200@innergarden.nu
SUMMARY:QUIZ på Innergården - 7 juli - Alla mot alla
DESCRIPTION:QUIZ på Innergården! \nVarje tisdag är det Quiz på Innergården!\nKom och testa dina kunskaper i en social och rolig frågesport – perfekt att delta med vänner\, familj eller kollegor! \nHur går det till?⮕ Pris: 20 kr per person – pengarna går till vinstpotten\, som delas i form av ett presentkort på Innergården till det vinnande laget!⮕ Anmälan: Skicka DM på Instagram @innergardenlkpg eller maila oss på info@innergarden.nu⮕ Max 6 personer per lag\nKom och ha kul – vi ser fram emot att se just ditt lag på quizet! Varmt välkomna! 
URL:https://innergarden.nu/event/quiz-pa-innergarden-7-juli-alla-mot-alla/
CATEGORIES:quiz
ATTACH;FMTTYPE=image/png:https://innergarden.nu/wp-content/uploads/2026/04/Innergarden_QUIZ_2026_Juli_07_FBpng.png
END:VEVENT
BEGIN:VEVENT
DTSTART;TZID=Europe/Paris:20260714T190000
DTEND;TZID=Europe/Paris:20260714T203000
DTSTAMP:20260422T185834
CREATED:20260408T091757Z
LAST-MODIFIED:20260408T091757Z
UID:1971-1784055600-1784061000@innergarden.nu
SUMMARY:QUIZ på Innergården - 14 juli - Gott & Blandat
DESCRIPTION:QUIZ på Innergården! \nVarje tisdag är det Quiz på Innergården!\nKom och testa dina kunskaper i en social och rolig frågesport – perfekt att delta med vänner\, familj eller kollegor! \nHur går det till?⮕ Pris: 20 kr per person – pengarna går till vinstpotten\, som delas i form av ett presentkort på Innergården till det vinnande laget!⮕ Anmälan: Skicka DM på Instagram @innergardenlkpg eller maila oss på info@innergarden.nu⮕ Max 6 personer per lag\nKom och ha kul – vi ser fram emot att se just ditt lag på quizet! Varmt välkomna! 
URL:https://innergarden.nu/event/quiz-pa-innergarden-14-juli-gott-blandat/
CATEGORIES:quiz
ATTACH;FMTTYPE=image/png:https://innergarden.nu/wp-content/uploads/2026/04/Innergarden_QUIZ_2026_Juli_14_FB.png
END:VEVENT
BEGIN:VEVENT
DTSTART;TZID=Europe/Paris:20260721T190000
DTEND;TZID=Europe/Paris:20260721T203000
DTSTAMP:20260422T185834
CREATED:20260408T092155Z
LAST-MODIFIED:20260408T092155Z
UID:1974-1784660400-1784665800@innergarden.nu
SUMMARY:QUIZ på Innergården - 21 juli - Sport & Fritid
DESCRIPTION:QUIZ på Innergården! \nVarje tisdag är det Quiz på Innergården!\nKom och testa dina kunskaper i en social och rolig frågesport – perfekt att delta med vänner\, familj eller kollegor! \nHur går det till?⮕ Pris: 20 kr per person – pengarna går till vinstpotten\, som delas i form av ett presentkort på Innergården till det vinnande laget!⮕ Anmälan: Skicka DM på Instagram @innergardenlkpg eller maila oss på info@innergarden.nu⮕ Max 6 personer per lag\nKom och ha kul – vi ser fram emot att se just ditt lag på quizet! Varmt välkomna! 
URL:https://innergarden.nu/event/quiz-pa-innergarden-21-juli-sport-fritid/
CATEGORIES:quiz
ATTACH;FMTTYPE=image/png:https://innergarden.nu/wp-content/uploads/2026/04/Innergarden_QUIZ_2026_Juli_21_FB.png
END:VEVENT
BEGIN:VEVENT
DTSTART;TZID=Europe/Paris:20260728T190000
DTEND;TZID=Europe/Paris:20260728T203000
DTSTAMP:20260422T185834
CREATED:20260408T092253Z
LAST-MODIFIED:20260408T092253Z
UID:1977-1785265200-1785270600@innergarden.nu
SUMMARY:QUIZ på Innergården - 28 juli - Flashback
DESCRIPTION:QUIZ på Innergården! \nVarje tisdag är det Quiz på Innergården!\nKom och testa dina kunskaper i en social och rolig frågesport – perfekt att delta med vänner\, familj eller kollegor! \nHur går det till?⮕ Pris: 20 kr per person – pengarna går till vinstpotten\, som delas i form av ett presentkort på Innergården till det vinnande laget!⮕ Anmälan: Skicka DM på Instagram @innergardenlkpg eller maila oss på info@innergarden.nu⮕ Max 6 personer per lag\nKom och ha kul – vi ser fram emot att se just ditt lag på quizet! Varmt välkomna! 
URL:https://innergarden.nu/event/quiz-pa-innergarden-28-juli-flashback/
CATEGORIES:quiz
ATTACH;FMTTYPE=image/png:https://innergarden.nu/wp-content/uploads/2026/04/Innergarden_QUIZ_2026_Juli_28_FB.png
END:VEVENT
END:VCALENDAR