BEGIN:VCALENDAR
VERSION:2.0
PRODID:-//Innergården Linköping - ECPv6.15.20//NONSGML v1.0//EN
CALSCALE:GREGORIAN
METHOD:PUBLISH
X-WR-CALNAME:Innergården Linköping
X-ORIGINAL-URL:https://innergarden.nu
X-WR-CALDESC:Händelser för Innergården Linköping
REFRESH-INTERVAL;VALUE=DURATION:PT1H
X-Robots-Tag:noindex
X-PUBLISHED-TTL:PT1H
BEGIN:VTIMEZONE
TZID:Europe/Paris
BEGIN:DAYLIGHT
TZOFFSETFROM:+0100
TZOFFSETTO:+0200
TZNAME:CEST
DTSTART:20250330T010000
END:DAYLIGHT
BEGIN:STANDARD
TZOFFSETFROM:+0200
TZOFFSETTO:+0100
TZNAME:CET
DTSTART:20251026T010000
END:STANDARD
BEGIN:DAYLIGHT
TZOFFSETFROM:+0100
TZOFFSETTO:+0200
TZNAME:CEST
DTSTART:20260329T010000
END:DAYLIGHT
BEGIN:STANDARD
TZOFFSETFROM:+0200
TZOFFSETTO:+0100
TZNAME:CET
DTSTART:20261025T010000
END:STANDARD
BEGIN:DAYLIGHT
TZOFFSETFROM:+0100
TZOFFSETTO:+0200
TZNAME:CEST
DTSTART:20270328T010000
END:DAYLIGHT
BEGIN:STANDARD
TZOFFSETFROM:+0200
TZOFFSETTO:+0100
TZNAME:CET
DTSTART:20271031T010000
END:STANDARD
END:VTIMEZONE
BEGIN:VEVENT
DTSTART;TZID=Europe/Paris:20260807T190000
DTEND;TZID=Europe/Paris:20260807T200000
DTSTAMP:20260423T001110
CREATED:20260414T105848Z
LAST-MODIFIED:20260414T111932Z
UID:2008-1786129200-1786132800@innergarden.nu
SUMMARY:Innergården LIVE - 7 augusti - Jimmy Uller Band ft Ola Rapace - FRI ENTRÉ
DESCRIPTION:INNERGÅRDEN LIVE 🎶\nVälkommen till livemusik på Linköpings härligaste innergård 🌟 \nHär bjuder vi på skön stämning\, härlig atmosfär och en mix av akustiska covers\, pop\, soul och rock’n’roll – framfört av några av Linköpings bästa artister. Perfekt för after work\, en sommarkväll med vänner eller när du bara vill njuta av riktigt bra livemusik i en avslappnad miljö! \n7 augusti presenterar vi Jimmy Uller Band ft Ola Rapace! Bandet\, bestående av Jimmy Uller\, Joakim Svensson\, Fredrik Andersson\, Jonathan Lawrence\, tillsammans med Ola Rapace spelar både pop\, rock och blues. Jimmy Uller är musiker sedan barnsben och jobbar som skådespelare med sin skådespelare kollega Ola Rapace. Bandet är även on tour i hela Scandinavien och även i Sydeuropa. Vilken kväll detta kommer att bli! \n⮕ FRI ENTRÉ \nTa med vännerna\, luta dig tillbaka och upplev livemusik när den är som bäst!
URL:https://innergarden.nu/event/innergarden-live-7-augusti-jimmy-uller-band-ft-ola-rapace-fri-entre/
CATEGORIES:live
ATTACH;FMTTYPE=image/png:https://innergarden.nu/wp-content/uploads/2026/04/Innergarden_2026_Linkoping_Event_Livemusik_Musik_7_Augusti-1.png
END:VEVENT
BEGIN:VEVENT
DTSTART;TZID=Europe/Paris:20260808T190000
DTEND;TZID=Europe/Paris:20260808T200000
DTSTAMP:20260423T001110
CREATED:20260414T121359Z
LAST-MODIFIED:20260414T122557Z
UID:2044-1786215600-1786219200@innergarden.nu
SUMMARY:Innergården LIVE - 8 augusti - Micke & Benna - FRI ENTRÉ
DESCRIPTION:INNERGÅRDEN LIVE 🎶\nVälkommen till livemusik på Linköpings härligaste innergård 🌟 \nHär bjuder vi på skön stämning\, härlig atmosfär och en mix av akustiska covers\, pop\, soul och rock’n’roll – framfört av några av Linköpings bästa artister. Perfekt för after work\, en sommarkväll med vänner eller när du bara vill njuta av riktigt bra livemusik i en avslappnad miljö! \n8 augusti presenterar vi Micke & Benna! Micke & Benna har nu varit ett team i hela 17 år och bjuder på akustiska hits från 70-\, 80-\, 90- och 2000-talet 🎤🎸. Med sin långa erfarenhet skapar de en härlig stämning och tar publiken med på en musikalisk resa genom flera decennier av klassiska låtar. \n⮕ FRI ENTRÉ \nTa med vännerna\, luta dig tillbaka och upplev livemusik när den är som bäst!
URL:https://innergarden.nu/event/innergarden-live-8-augusti-micke-benna-fri-entre/
CATEGORIES:live
ATTACH;FMTTYPE=image/png:https://innergarden.nu/wp-content/uploads/2026/04/Innergarden_2026_Linkoping_Event_Livemusik_Musik_8_Augusti_Micke_Benna.png
END:VEVENT
BEGIN:VEVENT
DTSTART;TZID=Europe/Paris:20260811T190000
DTEND;TZID=Europe/Paris:20260811T203000
DTSTAMP:20260423T001110
CREATED:20260408T092521Z
LAST-MODIFIED:20260408T092521Z
UID:1985-1786474800-1786480200@innergarden.nu
SUMMARY:QUIZ på Innergården - 11 augusti - Mini-games
DESCRIPTION:QUIZ på Innergården! \nVarje tisdag är det Quiz på Innergården!\nKom och testa dina kunskaper i en social och rolig frågesport – perfekt att delta med vänner\, familj eller kollegor! \nHur går det till?⮕ Pris: 20 kr per person – pengarna går till vinstpotten\, som delas i form av ett presentkort på Innergården till det vinnande laget!⮕ Anmälan: Skicka DM på Instagram @innergardenlkpg eller maila oss på info@innergarden.nu⮕ Max 6 personer per lag\nKom och ha kul – vi ser fram emot att se just ditt lag på quizet! Varmt välkomna! 
URL:https://innergarden.nu/event/quiz-pa-innergarden-11-augusti-mini-games/
CATEGORIES:quiz
ATTACH;FMTTYPE=image/png:https://innergarden.nu/wp-content/uploads/2026/04/Innergarden_QUIZ_2026_Augusti_11_FB.png
END:VEVENT
BEGIN:VEVENT
DTSTART;TZID=Europe/Paris:20260815T190000
DTEND;TZID=Europe/Paris:20260815T200000
DTSTAMP:20260423T001110
CREATED:20260414T122427Z
LAST-MODIFIED:20260414T122427Z
UID:2050-1786820400-1786824000@innergarden.nu
SUMMARY:Innergården LIVE - 15 augusti - Alltid På Gång - FRI ENTRÉ
DESCRIPTION:INNERGÅRDEN LIVE 🎶\nVälkommen till livemusik på Linköpings härligaste innergård 🌟 \nHär bjuder vi på skön stämning\, härlig atmosfär och en mix av akustiska covers\, pop\, soul och rock’n’roll – framfört av några av Linköpings bästa artister. Perfekt för after work\, en sommarkväll med vänner eller när du bara vill njuta av riktigt bra livemusik i en avslappnad miljö! \n15 augusti presenterar vi Alltid På Gång! Med 20 års erfarenhet av musikunderhållning levererar denna duo allt från gamla klassiker till de senaste hitsen med mycket energi och glädje! \n⮕ FRI ENTRÉ \nTa med vännerna\, luta dig tillbaka och upplev livemusik när den är som bäst!
URL:https://innergarden.nu/event/innergarden-live-15-augusti-alltid-pa-gang-fri-entre/
CATEGORIES:live
ATTACH;FMTTYPE=image/png:https://innergarden.nu/wp-content/uploads/2026/04/Innergarden_2026_Linkoping_Event_Livemusik_Musik_15_Augusti_Allid_pa_Gang.png
END:VEVENT
BEGIN:VEVENT
DTSTART;TZID=Europe/Paris:20260818T190000
DTEND;TZID=Europe/Paris:20260818T203000
DTSTAMP:20260423T001110
CREATED:20260408T092616Z
LAST-MODIFIED:20260408T092616Z
UID:1988-1787079600-1787085000@innergarden.nu
SUMMARY:QUIZ på Innergården - 18 augusti - Män vs Kvinnor
DESCRIPTION:QUIZ på Innergården! \nVarje tisdag är det Quiz på Innergården!\nKom och testa dina kunskaper i en social och rolig frågesport – perfekt att delta med vänner\, familj eller kollegor! \nHur går det till?⮕ Pris: 20 kr per person – pengarna går till vinstpotten\, som delas i form av ett presentkort på Innergården till det vinnande laget!⮕ Anmälan: Skicka DM på Instagram @innergardenlkpg eller maila oss på info@innergarden.nu⮕ Max 6 personer per lag\nKom och ha kul – vi ser fram emot att se just ditt lag på quizet! Varmt välkomna! 
URL:https://innergarden.nu/event/quiz-pa-innergarden-18-augusti-man-vs-kvinnor/
CATEGORIES:quiz
ATTACH;FMTTYPE=image/png:https://innergarden.nu/wp-content/uploads/2026/04/Innergarden_QUIZ_2026_Augusti_18_FB.png
END:VEVENT
BEGIN:VEVENT
DTSTART;TZID=Europe/Paris:20260825T190000
DTEND;TZID=Europe/Paris:20260825T203000
DTSTAMP:20260423T001110
CREATED:20260408T092709Z
LAST-MODIFIED:20260408T092709Z
UID:1991-1787684400-1787689800@innergarden.nu
SUMMARY:QUIZ på Innergården - 25 augusti - Sista quizet
DESCRIPTION:QUIZ på Innergården! \nVarje tisdag är det Quiz på Innergården!\nKom och testa dina kunskaper i en social och rolig frågesport – perfekt att delta med vänner\, familj eller kollegor! \nHur går det till?⮕ Pris: 20 kr per person – pengarna går till vinstpotten\, som delas i form av ett presentkort på Innergården till det vinnande laget!⮕ Anmälan: Skicka DM på Instagram @innergardenlkpg eller maila oss på info@innergarden.nu⮕ Max 6 personer per lag\nKom och ha kul – vi ser fram emot att se just ditt lag på quizet! Varmt välkomna! 
URL:https://innergarden.nu/event/quiz-pa-innergarden-25-augusti-sista-quizet/
CATEGORIES:quiz
ATTACH;FMTTYPE=image/png:https://innergarden.nu/wp-content/uploads/2026/04/Innergarden_QUIZ_2026_Augusti_25_FB.png
END:VEVENT
BEGIN:VEVENT
DTSTART;TZID=Europe/Paris:20260827T190000
DTEND;TZID=Europe/Paris:20260828T200000
DTSTAMP:20260423T001110
CREATED:20260414T114325Z
LAST-MODIFIED:20260414T122526Z
UID:2034-1787857200-1787947200@innergarden.nu
SUMMARY:Innergården LIVE - 27 & 28 augusti- Emil Mattisson - FRI ENTRÉ
DESCRIPTION:INNERGÅRDEN LIVE 🎶\nVälkommen till livemusik på Linköpings härligaste innergård 🌟 \nHär bjuder vi på skön stämning\, härlig atmosfär och en mix av akustiska covers\, pop\, soul och rock’n’roll – framfört av några av Linköpings bästa artister. Perfekt för after work\, en sommarkväll med vänner eller när du bara vill njuta av riktigt bra livemusik i en avslappnad miljö! \n27 & 28 augusti presenterar vi Emil Mattisson – sångaren\, musikern och entertainern från Växjö som turnerar runt om i vårt avlånga land\, men även i Norden och världen. \nHär bjuds det på musik\, humor och glimten i ögat – en kväll fylld av energi\, skratt och allsång. \nAllt från Bruce Springsteen till Thomas Stenström\, Veronica Maggio och Tomas Ledin blandas med egna tolkningar och massor av härlig stämning. \n⮕ FRI ENTRÉ \nTa med vännerna\, luta dig tillbaka och upplev livemusik när den är som bäst!
URL:https://innergarden.nu/event/innergarden-live-27-28-augusti-emil-mattisson-fri-entre/
CATEGORIES:live
ATTACH;FMTTYPE=image/png:https://innergarden.nu/wp-content/uploads/2026/04/Innergarden_2026_Linkoping_Event_Livemusik_Musik_27_28_Augusti_Emil.png
END:VEVENT
END:VCALENDAR